BEGIN:VCALENDAR
VERSION:2.0
PRODID:-//Enfield Shaker Museum - ECPv6.15.20//NONSGML v1.0//EN
CALSCALE:GREGORIAN
METHOD:PUBLISH
X-ORIGINAL-URL:https://shakermuseum.org
X-WR-CALDESC:Events for Enfield Shaker Museum
REFRESH-INTERVAL;VALUE=DURATION:PT1H
X-Robots-Tag:noindex
X-PUBLISHED-TTL:PT1H
BEGIN:VTIMEZONE
TZID:America/New_York
BEGIN:DAYLIGHT
TZOFFSETFROM:-0500
TZOFFSETTO:-0400
TZNAME:EDT
DTSTART:20220313T070000
END:DAYLIGHT
BEGIN:STANDARD
TZOFFSETFROM:-0400
TZOFFSETTO:-0500
TZNAME:EST
DTSTART:20221106T060000
END:STANDARD
BEGIN:DAYLIGHT
TZOFFSETFROM:-0500
TZOFFSETTO:-0400
TZNAME:EDT
DTSTART:20230312T070000
END:DAYLIGHT
BEGIN:STANDARD
TZOFFSETFROM:-0400
TZOFFSETTO:-0500
TZNAME:EST
DTSTART:20231105T060000
END:STANDARD
BEGIN:DAYLIGHT
TZOFFSETFROM:-0500
TZOFFSETTO:-0400
TZNAME:EDT
DTSTART:20240310T070000
END:DAYLIGHT
BEGIN:STANDARD
TZOFFSETFROM:-0400
TZOFFSETTO:-0500
TZNAME:EST
DTSTART:20241103T060000
END:STANDARD
END:VTIMEZONE
BEGIN:VEVENT
DTSTART;VALUE=DATE:20230421
DTEND;VALUE=DATE:20230424
DTSTAMP:20260424T003843
CREATED:20221201T191103Z
LAST-MODIFIED:20230407T131245Z
UID:10000006-1682035200-1682294399@shakermuseum.org
SUMMARY:Spring Shaker Forum 2023
DESCRIPTION:2023 Spring Shaker Forum\nApril 21 – 23\, 2023\nJoin the Museum for an engaging weekend devoted to Shaker history and culture. The Spring Shaker Forum includes presentations by Shaker scholars\, special activities\, lodging and meals in the Great Stone Dwelling\, and networking with colleagues and friends.\nPrograms and Presenters\nFriday\, April 21 \n2:00 pm   Gallery Talk and Exhibit Opening \nEnfield Shaker Trustees – 1795 – 1904 \n                               Presenter – Mary Ann Haagen \n3:00 pm   Hands to Work: Picturing the Shakers as Handicraft Workers in 19th Century Photographs \n                               Presenter – Robert Emlen \n4:15 pm    How Father Joseph Emerged as Leader of the Shakers: \nA Closer Look at the 1780s and Beyond \n                               Presenter – Stephen Paterwic \n7:30 pm    Keynote: Opportunities Ahead for the Shakers in Maine \n                               Speaker – Michael Graham \n  \nSaturday\, April 22 \n9:00 am   Wandering Star: The Use and Abuse of Richard McNemar \n                              Presenter – Christian Goodwillie \n10:00 am  Mapping Sister Mary Hazard’s 1856 Journey to the \n“Eastern Societies of Believers” \n                               Presenter – Sara Leach \n11:15 am   Mapping the Shaker Garden of Eden \n                               Presenter – Douglas Winiarski \n1:15 pm    “Fall on the rock”: Excavating a Shaker Spiritual Motif \n                               Presenter – Carol Medlicott \n2:15 pm    Mother Ann Lee\, Spiritual Evolutionary: \nA Consciousness-Based Psychological Approach \n                                Presenter – Susan Curtiss \n3:30 pm   Sharing What We Have Learned \n                                Conversation Facilitator – Nancy Lee \n                   Shaker Book Signing – Details to follow \n7:30 pm   Keynote: “Shaker Fancy Goods: Shaker Survival \nThrough Sisterhood and Craft” \n                                 Speaker – Catherine Goldring \n  \nSunday\, April 23 \n9:00 am   Searching for Sister Mary: \nThe Legacy of Pleasant Hill’s Last Shaker \n                                Presenter – Rebecca Soules \n10:00 am  The Grand Survivor: Harvard Church Family’s \n“New Office” of 1839-40 \n                                 Presenter – Ned Quist \n11:15 am     Shaker Songs & Readings \n                       Leaders – Mary Ann Haagen & Kevin Siegfried \nTo register print the attached registration form and return it to education@shakermuseum.org : 2023 Shaker Forum Registration Form \nTo register by phone\, call 603-632-4346 Monday – Friday 10 am – 5 pm.
URL:https://shakermuseum.org/event/2023_spring_shaker_forum/
LOCATION:Enfield Shaker Museum\, 447 NH Route 4A\, Enfield\, NH\, 03748\, United States
CATEGORIES:Forum
ATTACH;FMTTYPE=image/jpeg:https://shakermuseum.org/wp-content/uploads/2022/12/1854_Cow_Barn_Update_Benefit_Tour.jpg
GEO:43.6200674;-72.1461874
X-APPLE-STRUCTURED-LOCATION;VALUE=URI;X-ADDRESS=Enfield Shaker Museum 447 NH Route 4A Enfield NH 03748 United States;X-APPLE-RADIUS=500;X-TITLE=447 NH Route 4A:geo:-72.1461874,43.6200674
END:VEVENT
END:VCALENDAR