BEGIN:VCALENDAR
VERSION:2.0
PRODID:-//Enfield Shaker Museum - ECPv6.15.20//NONSGML v1.0//EN
CALSCALE:GREGORIAN
METHOD:PUBLISH
X-WR-CALNAME:Enfield Shaker Museum
X-ORIGINAL-URL:https://shakermuseum.org
X-WR-CALDESC:Events for Enfield Shaker Museum
REFRESH-INTERVAL;VALUE=DURATION:PT1H
X-Robots-Tag:noindex
X-PUBLISHED-TTL:PT1H
BEGIN:VTIMEZONE
TZID:America/New_York
BEGIN:DAYLIGHT
TZOFFSETFROM:-0500
TZOFFSETTO:-0400
TZNAME:EDT
DTSTART:20220313T070000
END:DAYLIGHT
BEGIN:STANDARD
TZOFFSETFROM:-0400
TZOFFSETTO:-0500
TZNAME:EST
DTSTART:20221106T060000
END:STANDARD
BEGIN:DAYLIGHT
TZOFFSETFROM:-0500
TZOFFSETTO:-0400
TZNAME:EDT
DTSTART:20230312T070000
END:DAYLIGHT
BEGIN:STANDARD
TZOFFSETFROM:-0400
TZOFFSETTO:-0500
TZNAME:EST
DTSTART:20231105T060000
END:STANDARD
BEGIN:DAYLIGHT
TZOFFSETFROM:-0500
TZOFFSETTO:-0400
TZNAME:EDT
DTSTART:20240310T070000
END:DAYLIGHT
BEGIN:STANDARD
TZOFFSETFROM:-0400
TZOFFSETTO:-0500
TZNAME:EST
DTSTART:20241103T060000
END:STANDARD
END:VTIMEZONE
BEGIN:VEVENT
DTSTART;TZID=America/New_York:20231214T180000
DTEND;TZID=America/New_York:20231214T200000
DTSTAMP:20260423T135850
CREATED:20231122T152510Z
LAST-MODIFIED:20231122T152510Z
UID:10000129-1702576800-1702584000@shakermuseum.org
SUMMARY:Christmas Cookie Workshop
DESCRIPTION:Christmas Cookie Workshop\nThursday\, December 14\, 2023\n6:00 – 8:00 pm\nOur Christmas Cookie Workshop is here to satisfy your sweet tooth and teach you the art of baking mouthwatering cookies. Learn baking techniques for the best Christmas cookies with Carolyn Freese and Nan Munsey.  We will make Italian wedding cookies and elegantly decorated chocolate stars to take home and share with your family. \n👩🏾‍🍳 What You’ll Learn: \n🍪 Secrets to the perfect cookie dough. \n🍪 Creative cookie recipes \n🍪 Delicious cookie flavor variations. \n🍪 Tips and tricks from our experienced baker. \nThis workshop is suitable for all skill levels\, from beginners to seasoned bakers. Whether you’re looking to impress your family and friends with your new baking skills or simply want to indulge your taste buds\, this class is for you! \nAdvance registration is required. Class limited to 8 participants. Held in the kitchen of the historic Great Stone Dwelling. \nMuseum Members – $25/person \nNon-museum Members $30/person
URL:https://shakermuseum.org/event/christmas-cookie-workshop/
LOCATION:Enfield Shaker Museum\, 447 NH Route 4A\, Enfield\, NH\, 03748\, United States
CATEGORIES:Workshop
ATTACH;FMTTYPE=image/jpeg:https://shakermuseum.org/wp-content/uploads/2023/11/Italian-Wedding-Cookies.jpg
GEO:43.6200674;-72.1461874
X-APPLE-STRUCTURED-LOCATION;VALUE=URI;X-ADDRESS=Enfield Shaker Museum 447 NH Route 4A Enfield NH 03748 United States;X-APPLE-RADIUS=500;X-TITLE=447 NH Route 4A:geo:-72.1461874,43.6200674
END:VEVENT
END:VCALENDAR