BEGIN:VCALENDAR
VERSION:2.0
PRODID:-//Enfield Shaker Museum - ECPv6.15.20//NONSGML v1.0//EN
CALSCALE:GREGORIAN
METHOD:PUBLISH
X-ORIGINAL-URL:https://shakermuseum.org
X-WR-CALDESC:Events for Enfield Shaker Museum
REFRESH-INTERVAL;VALUE=DURATION:PT1H
X-Robots-Tag:noindex
X-PUBLISHED-TTL:PT1H
BEGIN:VTIMEZONE
TZID:America/New_York
BEGIN:DAYLIGHT
TZOFFSETFROM:-0500
TZOFFSETTO:-0400
TZNAME:EDT
DTSTART:20230312T070000
END:DAYLIGHT
BEGIN:STANDARD
TZOFFSETFROM:-0400
TZOFFSETTO:-0500
TZNAME:EST
DTSTART:20231105T060000
END:STANDARD
BEGIN:DAYLIGHT
TZOFFSETFROM:-0500
TZOFFSETTO:-0400
TZNAME:EDT
DTSTART:20240310T070000
END:DAYLIGHT
BEGIN:STANDARD
TZOFFSETFROM:-0400
TZOFFSETTO:-0500
TZNAME:EST
DTSTART:20241103T060000
END:STANDARD
BEGIN:DAYLIGHT
TZOFFSETFROM:-0500
TZOFFSETTO:-0400
TZNAME:EDT
DTSTART:20250309T070000
END:DAYLIGHT
BEGIN:STANDARD
TZOFFSETFROM:-0400
TZOFFSETTO:-0500
TZNAME:EST
DTSTART:20251102T060000
END:STANDARD
END:VTIMEZONE
BEGIN:VEVENT
DTSTART;TZID=America/New_York:20240731T190000
DTEND;TZID=America/New_York:20240731T200000
DTSTAMP:20260425T214436
CREATED:20240610T170711Z
LAST-MODIFIED:20240610T171617Z
UID:10000167-1722452400-1722456000@shakermuseum.org
SUMMARY:Free Concert - Cardigan Mountain Tradition
DESCRIPTION:2024 Outdoor Summer Concert Series\nCardigan Mountain Tradition\nWednesday\, July 31\, 2024\nLive music starts at 7 pm. Vending begins at 6 pm.\n  \nJoin us outside the historic Stone Machine Shop for a FREE concert with Cardigan Mountain Tradition! \nCardigan Mountain Tradition is a bluegrass band based in Enfield\, NH. The band has been in existence for over 40 years. They have appeared with Bill Monroe\, Juice Newton\, and on the Nashville Network (TNN). Cardigan Mountain Tradition has performed throughout New England including 15 years at the Eastern States Exposition in Springfield\, Massachusetts. \nThe band plays a mixture of traditional and original bluegrass music and blends humor into their family-friendly performances. Long time members include: Dan Hazelton\, guitar; Ed Dauphinais\, mandolin; Dale Barney\, banjo; Ellen Wilber\, guitar; and Gary Hutchins\, bass. \nBring your chairs and blankets and enjoy this outdoor concert at The Stone Mill. \nBeer\, hard cider\, wine\, soda\, and snacks will be available to purchase during the concert. \nEnfield Mascoma Lions Club will be on site with their food truck. \nLive music will start at 7 pm. Vending will begin at 6 pm. \nRain or shine (we will move inside in case of rain.) Plenty of free parking. \n  \n  \nSpecial thanks to our sponsors:
URL:https://shakermuseum.org/event/free-concert-cardigan-mountain-tradition-2/
LOCATION:Enfield Shaker Museum\, 447 NH Route 4A\, Enfield\, NH\, 03748\, United States
CATEGORIES:Music
ATTACH;FMTTYPE=image/jpeg:https://shakermuseum.org/wp-content/uploads/2024/06/Cardigan-Mountain-Tradition-2.jpeg
GEO:43.6200674;-72.1461874
X-APPLE-STRUCTURED-LOCATION;VALUE=URI;X-ADDRESS=Enfield Shaker Museum 447 NH Route 4A Enfield NH 03748 United States;X-APPLE-RADIUS=500;X-TITLE=447 NH Route 4A:geo:-72.1461874,43.6200674
END:VEVENT
END:VCALENDAR