BEGIN:VCALENDAR
VERSION:2.0
PRODID:-//Enfield Shaker Museum - ECPv6.15.20//NONSGML v1.0//EN
CALSCALE:GREGORIAN
METHOD:PUBLISH
X-WR-CALNAME:Enfield Shaker Museum
X-ORIGINAL-URL:https://shakermuseum.org
X-WR-CALDESC:Events for Enfield Shaker Museum
REFRESH-INTERVAL;VALUE=DURATION:PT1H
X-Robots-Tag:noindex
X-PUBLISHED-TTL:PT1H
BEGIN:VTIMEZONE
TZID:America/New_York
BEGIN:DAYLIGHT
TZOFFSETFROM:-0500
TZOFFSETTO:-0400
TZNAME:EDT
DTSTART:20240310T070000
END:DAYLIGHT
BEGIN:STANDARD
TZOFFSETFROM:-0400
TZOFFSETTO:-0500
TZNAME:EST
DTSTART:20241103T060000
END:STANDARD
BEGIN:DAYLIGHT
TZOFFSETFROM:-0500
TZOFFSETTO:-0400
TZNAME:EDT
DTSTART:20250309T070000
END:DAYLIGHT
BEGIN:STANDARD
TZOFFSETFROM:-0400
TZOFFSETTO:-0500
TZNAME:EST
DTSTART:20251102T060000
END:STANDARD
BEGIN:DAYLIGHT
TZOFFSETFROM:-0500
TZOFFSETTO:-0400
TZNAME:EDT
DTSTART:20260308T070000
END:DAYLIGHT
BEGIN:STANDARD
TZOFFSETFROM:-0400
TZOFFSETTO:-0500
TZNAME:EST
DTSTART:20261101T060000
END:STANDARD
END:VTIMEZONE
BEGIN:VEVENT
DTSTART;TZID=America/New_York:20250608T130000
DTEND;TZID=America/New_York:20250608T150000
DTSTAMP:20260424T161921
CREATED:20250410T153023Z
LAST-MODIFIED:20250417T194634Z
UID:10000248-1749387600-1749394800@shakermuseum.org
SUMMARY:Pressed Flower Workshop with Ellie Roden
DESCRIPTION:Pressed Flower Workshop\nwith Ellie Roden\nSunday\, June 8th\, 2025\n1:00 – 3:00 pm\nEnfield Shaker Museum \n447 NH Route 4A \nEnfield\, NH 03748 \nDiscover the beauty of pressed flowers in this hands-on Pressed Flower Art Workshop led by acclaimed artist Ellie Roden at the historic Enfield Shaker Museum! \nImmerse yourself in the delicate and timeless art of flower pressing as Ellie shares expert techniques for preserving botanical treasures and transforming them into stunning works of art. Using blooms inspired by the museum’s lush herb and flower from regional gardens\, you’ll create your own framed pressed flower masterpiece to take home. \nWhat You’ll Experience: \nLearn the secrets of flower pressing from an expert  to create a unique\, handcrafted botanical artwork . Explore floral design techniques in an inspiring setting and enjoy the peaceful ambiance of the Enfield Shaker Museum. \nAll materials are included\, and no experience is necessary—just bring your creativity! \nMore from Ellie Roden: \n\nEllie Roden\, longtime resident of southern Vermont\, retired primary school teacher and avid flower gardener\, has been creating art from pressed flowers for many years. She has always been intrigued with the beauty of flowers and sees pressing them as a way to preserve their beauty. \nEllie is a self-taught pressed flowers artist who has honed her craft over years of trial and error and careful observation. Her work has been exhibited at shows and in galleries throughout New England and has been featured in two national publications. \n\nAdvanced Registration Required. Limited to 20 participants. \nCost: \nMembers – $35 \nNon-Members – $40 \n*All proceeds go to the educational mission of Enfield Shaker Museum. \nComing from a distance? Stay at the historic Great Stone Dwelling. Check our room availability here. \n 
URL:https://shakermuseum.org/event/pressed-flower-workshop-with-ellie-roden/
LOCATION:Enfield Shaker Museum\, 447 NH Route 4A\, Enfield\, NH\, 03748\, United States
CATEGORIES:Education,Workshop
ATTACH;FMTTYPE=image/png:https://shakermuseum.org/wp-content/uploads/2025/03/Screenshot-2025-03-13-at-13-26-24-Pressed-Flower-Art-Ellie-Roden-Vermont-Pressed-Flowers.png
GEO:43.6200674;-72.1461874
X-APPLE-STRUCTURED-LOCATION;VALUE=URI;X-ADDRESS=Enfield Shaker Museum 447 NH Route 4A Enfield NH 03748 United States;X-APPLE-RADIUS=500;X-TITLE=447 NH Route 4A:geo:-72.1461874,43.6200674
END:VEVENT
END:VCALENDAR