BEGIN:VCALENDAR
VERSION:2.0
PRODID:-//Enfield Shaker Museum - ECPv6.15.20//NONSGML v1.0//EN
CALSCALE:GREGORIAN
METHOD:PUBLISH
X-ORIGINAL-URL:https://shakermuseum.org
X-WR-CALDESC:Events for Enfield Shaker Museum
REFRESH-INTERVAL;VALUE=DURATION:PT1H
X-Robots-Tag:noindex
X-PUBLISHED-TTL:PT1H
BEGIN:VTIMEZONE
TZID:America/New_York
BEGIN:DAYLIGHT
TZOFFSETFROM:-0500
TZOFFSETTO:-0400
TZNAME:EDT
DTSTART:20240310T070000
END:DAYLIGHT
BEGIN:STANDARD
TZOFFSETFROM:-0400
TZOFFSETTO:-0500
TZNAME:EST
DTSTART:20241103T060000
END:STANDARD
BEGIN:DAYLIGHT
TZOFFSETFROM:-0500
TZOFFSETTO:-0400
TZNAME:EDT
DTSTART:20250309T070000
END:DAYLIGHT
BEGIN:STANDARD
TZOFFSETFROM:-0400
TZOFFSETTO:-0500
TZNAME:EST
DTSTART:20251102T060000
END:STANDARD
BEGIN:DAYLIGHT
TZOFFSETFROM:-0500
TZOFFSETTO:-0400
TZNAME:EDT
DTSTART:20260308T070000
END:DAYLIGHT
BEGIN:STANDARD
TZOFFSETFROM:-0400
TZOFFSETTO:-0500
TZNAME:EST
DTSTART:20261101T060000
END:STANDARD
END:VTIMEZONE
BEGIN:VEVENT
DTSTART;TZID=America/New_York:20250802T080000
DTEND;TZID=America/New_York:20250802T093000
DTSTAMP:20260424T152037
CREATED:20250511T130018Z
LAST-MODIFIED:20250511T130018Z
UID:10000273-1754121600-1754127000@shakermuseum.org
SUMMARY:Birding Walk with NH Audubon
DESCRIPTION:Birding Walk\nwith NH Audubon\nSaturday\, August 2nd\, 2025\n8:00 – 9:30 am\nGift Shop at \nEnfield Shaker Museum \n447 NH Route 4A \nEnfield\, NH 03748 \nDiscover what makes a bird a bird in this beginner birding class. Learn the basics of bird identification\, the wide diversity of birds you might see in New Hampshire\, and some tools of the trade to help you name the birds around you. This walk will be lead by Devin Guilfoyle from the New Hampshire Audubon’s Newfound Center. The trails your group will be walking are on conservation land\, where you may have the chance to see a bobolink and other rare birds. \nDevin Guilfoyle was recently promoted to Newfound Centers Public Programs Coordinator. Hailing from Schenectady\, New York\, he holds a bachelor’s degree in Conservation Biology from St. Lawrence University with years of experience in environmental education taking him to Vermont\, Georgia\, Minnesota\, Maine\, and now New Hampshire! \n“I’ve always been interested in the natural world\, particularly birds\,” Devin says. His appreciation of nature began with exploring the woods behind his grandmother’s house as a child and solidified in his undergraduate studies through classes such as ecology\, ornithology\, and ecology of lakes and rivers. Through outdoor education and programming\, Devin strives “to inspire a sense of wonder about the natural world in visitors\, young and old. My hope is by inspiring this wonder\, people will be moved to conserve natural spaces.” \nCost: \nFree Admission \n*Advanced Registration is Required. Group capacity is 15 people. \nComing from a distance? Stay at the historic Great Stone Dwelling! Check our room availability here.
URL:https://shakermuseum.org/event/birding-walk-with-nh-audubon/
LOCATION:Enfield Shaker Museum\, 447 NH Route 4A\, Enfield\, NH\, 03748\, United States
CATEGORIES:Education,Nature Walk
ATTACH;FMTTYPE=image/jpeg:https://shakermuseum.org/wp-content/uploads/2023/05/BIrds-and-Breakfast-Nature-Walk.jpg
GEO:43.6200674;-72.1461874
X-APPLE-STRUCTURED-LOCATION;VALUE=URI;X-ADDRESS=Enfield Shaker Museum 447 NH Route 4A Enfield NH 03748 United States;X-APPLE-RADIUS=500;X-TITLE=447 NH Route 4A:geo:-72.1461874,43.6200674
END:VEVENT
BEGIN:VEVENT
DTSTART;TZID=America/New_York:20250808T130000
DTEND;TZID=America/New_York:20250808T170000
DTSTAMP:20260424T152037
CREATED:20250603T132522Z
LAST-MODIFIED:20250603T132522Z
UID:10000291-1754658000-1754672400@shakermuseum.org
SUMMARY:Children's Junk Journal Workshop
DESCRIPTION:Children’s Junk Journal Workshop\nwith Jean Reed\nFriday\, August 8th\, 2025\n1:00 – 5:00 pm\nEnfield Shaker Museum \n447 NH Route 4A \nEnfield\, NH 03748 \nLet your child spend a few of hours with me to create their personalized Junk Journal. This will be an opportunity for them to use their imaginations and tap into their artistic side. Decorating their journals will create a very personal and whimsical book of their own and give them a place to write their special memories or explore their dreams. \n \nWith the exception of a few items\, their kit will include recylced and salvaged products. They will have a choice of books\, papers\, colored pencils and a wide variety of embellishments. During their time with me they will learn basic skills in rubber stamping. \n \nThis class is appropriate for children ages 5-16 or anyone who is interested in journaling. Parents need not be present during workshop. Feel free to email Jean Reed at MurrayHillWeaving@gmail.com with any questions. \nWho is Jean Reed? \nMurray Hill Weaving is Jean Reed’s dream come true – resulting from her love of basketry\, and weaving for over 45 years. \nBasketry classes took a natural turn into chair seating and other types of art which include a variety of children’s workshops. Located at 685 Murray Hill Road\, Hill\, NH\, the heart of New Hampshire\, Jean teaches in her shop\, and art studios around the country. \nShe has taught for the NH League of Craftsmen\, as well conventions in Michigan\, North Carolina\, Kentucky\, Stowe Basket Festival and Northeast Basketmakers Guild. In addition\, she is a member of BAG\, a local group of artists called Book Artist Group. \n*Advanced Registration Required. Limited class size of 10. \nCost:  \nMembers – $60 \nNon-Members – $65 \n*Materials fee of $35 included with price. \nComing from a distance? Stay at our historic Great Stone Dwelling! Check our room availability here.
URL:https://shakermuseum.org/event/childrens-junk-journal-workshop/
LOCATION:Enfield Shaker Museum\, 447 NH Route 4A\, Enfield\, NH\, 03748\, United States
CATEGORIES:Children's Workshop,Education
ATTACH;FMTTYPE=image/jpeg:https://shakermuseum.org/wp-content/uploads/2025/06/Junk_Journaling2_upscaled.jpg
GEO:43.6200674;-72.1461874
X-APPLE-STRUCTURED-LOCATION;VALUE=URI;X-ADDRESS=Enfield Shaker Museum 447 NH Route 4A Enfield NH 03748 United States;X-APPLE-RADIUS=500;X-TITLE=447 NH Route 4A:geo:-72.1461874,43.6200674
END:VEVENT
BEGIN:VEVENT
DTSTART;TZID=America/New_York:20250821T163000
DTEND;TZID=America/New_York:20250821T173000
DTSTAMP:20260424T152037
CREATED:20250716T131103Z
LAST-MODIFIED:20250821T143606Z
UID:10000307-1755793800-1755797400@shakermuseum.org
SUMMARY:Steve Taylor on the History of the Upper Valley
DESCRIPTION:Steve Taylor\non the History of the Upper Valley\nThursday\, August 21st\, 2025\n4:30pm start\nGreat Stone Dwelling \n447 NH Route 4A \nEnfield\, NH 03748 \nThe Enfield Public Library and the Enfield Shaker Museum present a talk by eminent local historian Steve Taylor on the history of the Upper Valley. Find out why it’s called the Upper Valley and more about our region. \nFree admission!
URL:https://shakermuseum.org/event/steve-taylor-on-the-history-of-the-upper-valley/
LOCATION:Enfield Shaker Museum\, 447 NH Route 4A\, Enfield\, NH\, 03748\, United States
CATEGORIES:Education,Presentation
ATTACH;FMTTYPE=image/jpeg:https://shakermuseum.org/wp-content/uploads/2025/07/mapofVTNH.jpg
GEO:43.6200674;-72.1461874
X-APPLE-STRUCTURED-LOCATION;VALUE=URI;X-ADDRESS=Enfield Shaker Museum 447 NH Route 4A Enfield NH 03748 United States;X-APPLE-RADIUS=500;X-TITLE=447 NH Route 4A:geo:-72.1461874,43.6200674
END:VEVENT
BEGIN:VEVENT
DTSTART;TZID=America/New_York:20250824T100000
DTEND;TZID=America/New_York:20250824T133000
DTSTAMP:20260424T152037
CREATED:20250410T151957Z
LAST-MODIFIED:20250410T151957Z
UID:10000265-1756029600-1756042200@shakermuseum.org
SUMMARY:Hand Papermaking with Plants
DESCRIPTION:Hand Papermaking with Plants\nSunday August 24th\, 2025\n10:00 am – 1:30 pm\nEnfield Shaker Museum Herb Garden \n447 NH Route 4A \nEnfield\, NH 03748 \nJoin local artist Emma Percy for a day making paper in the herb garden! People have been using plant fibers to make paper for nearly 2\,000 years\, and in the present day the practice offers endless possibilities as a creative and artistic medium. This class will go through the traditional western-style papermaking process step-by-step: understanding different types of fiber and where they come from\, processing the plants and making pulp\, forming sheets\, adding decorative inclusions from in and around the garden\, and pressing and drying the sheets. Everyone will make several pieces of paper to use for their own art and craft projects\, for writing letters\, or simply to appreciate as art in its own right. You’ll also learn some strategies for making paper at home in a relatively small space without the need for much specialized equipment! \n \n*Please wear clothes and shoes you don’t mind getting wet\, and be mindful of the weather for this outdoor workshop. We will have pop-up tents for light rain\, and have an indoor location if it is too wet or stormy outside. \nLearn more about Emma Percy: \nEmma Percy (they/them) is an artist\, community herbalist\, and educator from Buffalo\, NY\, now based in the Upper Valley of VT & NH. They work primarily in book arts and fiber arts and are focused on creating artwork in conversation with nature and ecology. Emma graduated with a BFA from Alfred University in 2017 and has been teaching workshops and courses in papermaking\, book arts\, and eco-art for 9 years. \nCost: \nMembers – $40 \nNon-Members – $50 \n*All materials included \nComing from a distance? Stay at our historic Great Stone Dwelling! Check our availability here.
URL:https://shakermuseum.org/event/hand-papermaking-with-plants/
LOCATION:Enfield Shaker Museum\, 447 NH Route 4A\, Enfield\, NH\, 03748\, United States
CATEGORIES:Education,Garden,Workshop
ATTACH;FMTTYPE=image/jpeg:https://shakermuseum.org/wp-content/uploads/2025/04/hilltopportal-1-scaled.jpg
GEO:43.6200674;-72.1461874
X-APPLE-STRUCTURED-LOCATION;VALUE=URI;X-ADDRESS=Enfield Shaker Museum 447 NH Route 4A Enfield NH 03748 United States;X-APPLE-RADIUS=500;X-TITLE=447 NH Route 4A:geo:-72.1461874,43.6200674
END:VEVENT
END:VCALENDAR