BEGIN:VCALENDAR
VERSION:2.0
PRODID:-//Enfield Shaker Museum - ECPv6.15.20//NONSGML v1.0//EN
CALSCALE:GREGORIAN
METHOD:PUBLISH
X-WR-CALNAME:Enfield Shaker Museum
X-ORIGINAL-URL:https://shakermuseum.org
X-WR-CALDESC:Events for Enfield Shaker Museum
REFRESH-INTERVAL;VALUE=DURATION:PT1H
X-Robots-Tag:noindex
X-PUBLISHED-TTL:PT1H
BEGIN:VTIMEZONE
TZID:America/New_York
BEGIN:DAYLIGHT
TZOFFSETFROM:-0500
TZOFFSETTO:-0400
TZNAME:EDT
DTSTART:20230312T070000
END:DAYLIGHT
BEGIN:STANDARD
TZOFFSETFROM:-0400
TZOFFSETTO:-0500
TZNAME:EST
DTSTART:20231105T060000
END:STANDARD
BEGIN:DAYLIGHT
TZOFFSETFROM:-0500
TZOFFSETTO:-0400
TZNAME:EDT
DTSTART:20240310T070000
END:DAYLIGHT
BEGIN:STANDARD
TZOFFSETFROM:-0400
TZOFFSETTO:-0500
TZNAME:EST
DTSTART:20241103T060000
END:STANDARD
BEGIN:DAYLIGHT
TZOFFSETFROM:-0500
TZOFFSETTO:-0400
TZNAME:EDT
DTSTART:20250309T070000
END:DAYLIGHT
BEGIN:STANDARD
TZOFFSETFROM:-0400
TZOFFSETTO:-0500
TZNAME:EST
DTSTART:20251102T060000
END:STANDARD
END:VTIMEZONE
BEGIN:VEVENT
DTSTART;TZID=America/New_York:20240504T100000
DTEND;TZID=America/New_York:20240504T120000
DTSTAMP:20260423T052250
CREATED:20240217T171508Z
LAST-MODIFIED:20240411T153552Z
UID:10000142-1714816800-1714824000@shakermuseum.org
SUMMARY:Cultivating Biodiversity with Henry Homeyer
DESCRIPTION:Cultivating Biodiversity with Henry Homeyer\nGardening with Native Plants for Pollinators\nCultivating Green Spaces Gardening Series\nSaturday\, May 4\, 2024\n10:00 am – 12:00 pm\nCultivating Biodiversity with Henry Homeyer will discuss the world of native plants and discover how they play a crucial role in supporting local pollinators such as bees\, butterflies\, and other essential pollinators. \nWorkshop Highlights:\nIntroduction to Native Plants: Learn the importance of native plants in maintaining ecological balance. Understand the unique characteristics and benefits of gardening with native plant species. \nPollinator Ecology: Explore the vital role of pollinators in our ecosystem. Gain insights into the specific needs and preferences of pollinators. \nDesign a Pollinator-friendly Garden: Learn practical tips on planning and designing a garden that creates a habitat that attracts and sustains diverse pollinator species. \nQ&A: Have your specific questions answered by Henry Homeyer. \nWhether you are a seasoned gardener or just starting your gardening journey\, this workshop offers valuable insights and practical knowledge to transform your garden into a haven for pollinators. Join us in fostering biodiversity and creating a sustainable environment for future generations. \nSpace is limited\, register now to secure your spot in this workshop! \nCultivating Green Spaces Gardening Series (see individual listings for details of other workshops in the series): \nBackyard Organic Gardening  \nSaturday\, March 9\, 2024   10:00 am  – 12:00 pm \nFruitful Harvest: A Home Garden Workshop on Growing Your Own Fruits \nSaturday\, March 23\, 2024   10:00 am – 12:00pm \nHands-on Pruning: Cultivating Healthy Gardens with Precision \nSaturday\, March 23\, 2024   1:00 pm – 3:00 pm \nCultivating Biodiversity: Gardening with Native Plants for Pollinators \nSaturday\, May 4\, 2024   10:00 am – 12:00 pm \nRooting Out Invasives: Identifying and Managing Invasive Plant Species \nSaturday\, May 4\, 2024   1:00 pm – 3:00 pm \nClass is limited to 20 participants. Advance registration is required. \nSign up for this class only: \nMuseum Member – $35/person \nNon-Member – $40/person \nSign up for the series of 5 workshops: \nMuseum Member – $150/person \nNon-Member – $175/person \nAll proceeds from this workshop go to support the educational mission of Enfield Shaker Museum. \nComing from a distance? Why not plan to stay overnight in the historic Great Stone Dwelling? Check out room availability here. \nWant to know more about Henry Homeyer?\nHenry Homeyer (The Gardening Guy) is a lifelong organic gardener living in Cornish\, NH\, where he has been planting flowers and trees since 1970. He is the author of four gardening books and has written a weekly gardening column for newspapers around New England for more than 24 years. He teaches organic gardening workshops throughout New England and is a regular monthly commentator on Vermont Public Radio. \n 
URL:https://shakermuseum.org/event/cultivating-biodiversity-with-henry-homeyer/
LOCATION:Enfield Shaker Museum\, 447 NH Route 4A\, Enfield\, NH\, 03748\, United States
CATEGORIES:Workshop
ATTACH;FMTTYPE=image/jpeg:https://shakermuseum.org/wp-content/uploads/2024/02/Increasing-Biodiversity-with-Native-Plants.jpeg
GEO:43.6200674;-72.1461874
X-APPLE-STRUCTURED-LOCATION;VALUE=URI;X-ADDRESS=Enfield Shaker Museum 447 NH Route 4A Enfield NH 03748 United States;X-APPLE-RADIUS=500;X-TITLE=447 NH Route 4A:geo:-72.1461874,43.6200674
END:VEVENT
BEGIN:VEVENT
DTSTART;TZID=America/New_York:20240504T130000
DTEND;TZID=America/New_York:20240504T150000
DTSTAMP:20260423T052250
CREATED:20240217T175138Z
LAST-MODIFIED:20240411T153307Z
UID:10000143-1714827600-1714834800@shakermuseum.org
SUMMARY:Rooting Out Invasives with Henry Homeyer
DESCRIPTION:Rooting Out Invasives with Henry Homeyer\nIdentifying and Managing Invasive Plant Species\nCultivating Green Spaces Gardening Series\nSaturday\, May 4\, 2024\n1:00 pm – 3:00 pm\nLearn about the world of invasive plant species in Rooting Out Invasives with Henry Homeyer. Topics include the impact of invasive plant species on ecosystems and effective strategies for their identification and management. This class is designed to empower you with the knowledge and skills needed to combat invasive plants and protect our local environments. \nWorkshop Highlights:\nUnderstanding Invasive Plants: Explore the concept of invasive plant species and the threats they pose to the native ecosystems. \nIdentification Techniques: Gain practical skills in identifying common invasive plant species in your region. \nEcological Impact: Understand how invasive plants outcompete and displace native flora\, affecting biodiversity. \nBest Practices for Management: Explore effective strategies for managing invasive plants\, including manual removal and herbicide application. \nQ&A: Get answers to your questions about invasive plant identification\, management strategies\, and restoration from Henry Homeyer. \nEquip yourself with the knowledge and skills needed to tackle invasive plant species. \nRegister now to secure your spot in this workshop\, space is limited. \nCultivating Green Spaces Gardening Series (see individual listings for details of other workshops in the series): \nBackyard Organic Gardening  \nSaturday\, March 9\, 2024   10:00 am  – 12:00 pm \nFruitful Harvest: A Home Garden Workshop on Growing Your Own Fruits \nSaturday\, March 23\, 2024   10:00 am – 12:00pm \nHands-on Pruning: Cultivating Healthy Gardens with Precision \nSaturday\, March 23\, 2024   1:00 pm – 3:00 pm \nCultivating Biodiversity: Gardening with Native Plants for Pollinators \nSaturday\, May 4\, 2024   10:00 am – 12:00 pm \nRooting Out Invasives: Identifying and Managing Invasive Plant Species \nSaturday\, May 4\, 2024   1:00 pm – 3:00 pm \nSpaces are limited\, so secure your spot today and embark on the path to a greener tomorrow! \nSign up for this class only: \nMuseum Member – $35/person \nNon-Member – $40/person \nSign up for the series of 5 workshops: \nMuseum Member – $150/person \nNon-Member – $175/person \nAll proceeds from this workshop go to support the educational mission of Enfield Shaker Museum. \nComing from a distance? Why not plan to stay overnight in the historic Great Stone Dwelling? Check out room availability here. \nWant to know more about Henry Homeyer?\nHenry Homeyer (The Gardening Guy) is a lifelong organic gardener living in Cornish\, NH\, where he has been planting flowers and trees since 1970. He is the author of four gardening books and has written a weekly gardening column for newspapers around New England for more than 24 years. He teaches organic gardening workshops throughout New England and is a regular monthly commentator on Vermont Public Radio.
URL:https://shakermuseum.org/event/rooting-out-invasives-with-henry-homeyer/
LOCATION:Enfield Shaker Museum\, 447 NH Route 4A\, Enfield\, NH\, 03748\, United States
CATEGORIES:Workshop
ATTACH;FMTTYPE=image/jpeg:https://shakermuseum.org/wp-content/uploads/2024/02/Invasive-Plant-Species.jpeg
GEO:43.6200674;-72.1461874
X-APPLE-STRUCTURED-LOCATION;VALUE=URI;X-ADDRESS=Enfield Shaker Museum 447 NH Route 4A Enfield NH 03748 United States;X-APPLE-RADIUS=500;X-TITLE=447 NH Route 4A:geo:-72.1461874,43.6200674
END:VEVENT
BEGIN:VEVENT
DTSTART;TZID=America/New_York:20240510T190000
DTEND;TZID=America/New_York:20240510T203000
DTSTAMP:20260423T052250
CREATED:20240416T205417Z
LAST-MODIFIED:20240416T205417Z
UID:10000147-1715367600-1715373000@shakermuseum.org
SUMMARY:Upper Valley Ringers Spring Concert
DESCRIPTION:Upper Valley Ringers\nSpring Concert\nRINGING AROUND THE WORLD\nFriday\, May 10th\n7:00 pm\nChosen Vale Performance Center\nRinging Around the World at the Upper Valley Ringers Spring Concert!\nIn this lively and varied program\, the Upper Valley Ringers handbell ensemble takes us on an adventure through music from many of the world’s cultures. \nYou may be surprised to recognize some familiar songs – and intrigued to hear others that are familiar in other places. \nCome enjoy this festive concert!  Experience the magic of handbells played by accomplished and enthusiastic local musicians! \nPlenty of free parking. Freewill offering to benefit Enfield Shaker Museum. Invite your family and friends to join you for this festive holiday event. \nDoors will open at 6:00 pm. The Chosen Vale Performance Center is located at the former La Salette Shrine behind the Enfield Town Library (stone building). 410 NH Route 4A\, Enfield\, NH. \nWant to know more about the Upper Valley Ringers?\nUpper Valley Ringers is a handbell choir of experienced local musicians who are dedicated to ringing and growing musically.  They perform seasonally at community gatherings for the joy of sharing this unique art form.  \nFounded by Jane Sachs\, the Upper Valley Ringers are co-directed by Jane\, Jo Shute\, and Joshua Brown.  They are open to new members who are good musicians and can commit to regular rehearsals.  For more information\, contact jsachsnh@gmail.com.
URL:https://shakermuseum.org/event/upper-valley-ringers-spring-concert/
LOCATION:Enfield Shaker Museum\, 447 NH Route 4A\, Enfield\, NH\, 03748\, United States
CATEGORIES:Music
ATTACH;FMTTYPE=image/jpeg:https://shakermuseum.org/wp-content/uploads/2023/11/Upper-Valley-Ringers-2023.jpg
GEO:43.6200674;-72.1461874
X-APPLE-STRUCTURED-LOCATION;VALUE=URI;X-ADDRESS=Enfield Shaker Museum 447 NH Route 4A Enfield NH 03748 United States;X-APPLE-RADIUS=500;X-TITLE=447 NH Route 4A:geo:-72.1461874,43.6200674
END:VEVENT
BEGIN:VEVENT
DTSTART;TZID=America/New_York:20240525T130000
DTEND;TZID=America/New_York:20240525T150000
DTSTAMP:20260423T052250
CREATED:20240427T191240Z
LAST-MODIFIED:20240427T193903Z
UID:10000152-1716642000-1716649200@shakermuseum.org
SUMMARY:Herbal Container Garden Workshop
DESCRIPTION:Herbal Container Garden Workshop\nSaturday\, May 25\, 2024\n1:00 pm – 3:00 pm\nInterested in starting your own Herbal Container Garden? Join us for an immersive workshop on the art of growing herbs in a container garden. \nYou will learn the fundamentals of container gardening\, including selecting suitable containers\, soil preparation\, proper watering techniques\, and essential care tips to ensure thriving herb growth. \nExplore the diverse array of herbs that flourish in containers\, while discussing their unique characteristics and uses. \nGuided by Museum Garden Coordinator Susan Quinlan\, you will gain hands-on experience as you plant your own container garden to take home.You will choose a customized mx of five different herb plants for your containers. \nHerb plants and soil will be provided\, please bring your own container(s)/pot(s) for planting. \nClass is limited to 12 participants. Advance registration is required. \nMuseum Members – $40/person \nNon-Members – $47/person \nAll proceeds from this workshop go to support the educational mission of Enfield Shaker Museum. Please consider making a contribution toward a scholarship registration that will be gifted to someone who otherwise would not be able to attend. \nComing from a distance? Why not plan to stay overnight in the historic Great Stone Dwelling? Check out room availability here. \nWant to know more about Susan Quinlan?\nSusan Quinlan is a retired registered nurse who has been creating and caring for gardens for forty-nine years. She is a self taught and dedicated organic gardener living in Canaan\, NH.  She grows flowers\, herbs\, vegetables\, perennials\, and shrubs on a northern slope. Susan creates wreaths for all seasons and gives hands-on workshops in wildcrafting. She is currently the Garden Coordinator at Enfield Shaker Museum. Her passion is to create connections between people and plants.
URL:https://shakermuseum.org/event/herbal-container-garden-workshop/
LOCATION:Enfield Shaker Museum\, 447 NH Route 4A\, Enfield\, NH\, 03748\, United States
CATEGORIES:Workshop
ATTACH;FMTTYPE=image/jpeg:https://shakermuseum.org/wp-content/uploads/2024/04/Container-Herb-Gardening.jpeg
GEO:43.6200674;-72.1461874
X-APPLE-STRUCTURED-LOCATION;VALUE=URI;X-ADDRESS=Enfield Shaker Museum 447 NH Route 4A Enfield NH 03748 United States;X-APPLE-RADIUS=500;X-TITLE=447 NH Route 4A:geo:-72.1461874,43.6200674
END:VEVENT
END:VCALENDAR