BEGIN:VCALENDAR
VERSION:2.0
PRODID:-//Enfield Shaker Museum - ECPv6.15.20//NONSGML v1.0//EN
CALSCALE:GREGORIAN
METHOD:PUBLISH
X-ORIGINAL-URL:https://shakermuseum.org
X-WR-CALDESC:Events for Enfield Shaker Museum
REFRESH-INTERVAL;VALUE=DURATION:PT1H
X-Robots-Tag:noindex
X-PUBLISHED-TTL:PT1H
BEGIN:VTIMEZONE
TZID:America/New_York
BEGIN:DAYLIGHT
TZOFFSETFROM:-0500
TZOFFSETTO:-0400
TZNAME:EDT
DTSTART:20240310T070000
END:DAYLIGHT
BEGIN:STANDARD
TZOFFSETFROM:-0400
TZOFFSETTO:-0500
TZNAME:EST
DTSTART:20241103T060000
END:STANDARD
BEGIN:DAYLIGHT
TZOFFSETFROM:-0500
TZOFFSETTO:-0400
TZNAME:EDT
DTSTART:20250309T070000
END:DAYLIGHT
BEGIN:STANDARD
TZOFFSETFROM:-0400
TZOFFSETTO:-0500
TZNAME:EST
DTSTART:20251102T060000
END:STANDARD
BEGIN:DAYLIGHT
TZOFFSETFROM:-0500
TZOFFSETTO:-0400
TZNAME:EDT
DTSTART:20260308T070000
END:DAYLIGHT
BEGIN:STANDARD
TZOFFSETFROM:-0400
TZOFFSETTO:-0500
TZNAME:EST
DTSTART:20261101T060000
END:STANDARD
BEGIN:DAYLIGHT
TZOFFSETFROM:-0500
TZOFFSETTO:-0400
TZNAME:EDT
DTSTART:20270314T070000
END:DAYLIGHT
BEGIN:STANDARD
TZOFFSETFROM:-0400
TZOFFSETTO:-0500
TZNAME:EST
DTSTART:20271107T060000
END:STANDARD
END:VTIMEZONE
BEGIN:VEVENT
DTSTART;TZID=America/New_York:20251017T080000
DTEND;TZID=America/New_York:20260213T234500
DTSTAMP:20260422T133000
CREATED:20251018T131200Z
LAST-MODIFIED:20251018T131208Z
UID:10000328-1760688000-1771026300@shakermuseum.org
SUMMARY:Spring 2026 Shaker Forum: Call for Papers!
DESCRIPTION:  \nThis year’s Enfield Shaker Museum Spring Shaker Forum will be held April 17 – 19\, 2026.  Please see the linked document below to see the official call.  I would encourage you to share it with any colleagues that are involved in Shaker research. We are looking forward to another year of thought-provoking presentations. \nTo Submit a Proposal: Send an abstract of 500 words or fewer and a CV by February 13 to Enfield Shaker Museum\, 447 NH Route 4A\, Enfield\, NH 03748\, or email education@shakermuseum.org. Please include your name\, address and a phone number in your email. All speakers will be notified of the presenting schedule by March 2nd. \nCALL FOR PAPERS 2026
URL:https://shakermuseum.org/event/spring-2026-shaker-forum-call-for-papers/
LOCATION:Enfield Shaker Museum\, 447 NH Route 4A\, Enfield\, NH\, 03748\, United States
CATEGORIES:Forum,Museum Event
GEO:43.6200674;-72.1461874
X-APPLE-STRUCTURED-LOCATION;VALUE=URI;X-ADDRESS=Enfield Shaker Museum 447 NH Route 4A Enfield NH 03748 United States;X-APPLE-RADIUS=500;X-TITLE=447 NH Route 4A:geo:-72.1461874,43.6200674
END:VEVENT
BEGIN:VEVENT
DTSTART;TZID=America/New_York:20251101T090000
DTEND;TZID=America/New_York:20251101T170000
DTSTAMP:20260422T133000
CREATED:20250820T181856Z
LAST-MODIFIED:20251029T153859Z
UID:10000312-1761987600-1762016400@shakermuseum.org
SUMMARY:Elevate Your Knitting with Texture
DESCRIPTION:Elevate Your Knitting with Texture\nwith Katrina Geurkink\nSaturday\, November 1st\, 2025\n9:00 am – 5:00 pm\nTHIS WORKSHOP HAS BEEN CANCELLED. THANK YOU FOR YOUR UNDERSTANDING.\nShaker arts and crafts are known for striking\, innovative\, and functional designs. Textured knitting shares these qualities. It can be used to create beautiful\, intriguing fabric with a range of performance features like stretch\, breathability\, durability\, moisture wicking and extra warmth. And your knitting doesn’t have to be complicated to create stunning\, textured pieces. It can be as simple as combining knit and purl stitches in unique ways; or employing increases and decreases in repetitive patterns that take your knitting to the next level. In this workshop we will explore a range of knitting stitches and techniques. Most are easy to learn and they all produce fabrics full of beautiful texture. We will begin with work on small pieces\, designed to develop skills and best practices. Once learned\, you will apply these skills to create a knitted item of your choice. The instructor has designed several textured knitting charts that can be incorporated into your project. You will receive the full collection of knitting charts during the workshop\, so you can continue developing your textured knitting skills at home and integrate the charts and stitches into future projects. This workshop is a great opportunity to get an early start on knitted gifts for the holidays. \nIn the workshop\, you will learn: \n\nDesign considerations for textured knitting: how to select the right yarn\, needles and color for your texture projects\, including advantages and disadvantages of different choices\nDifferent techniques to create texture in your knitting\, including: knit/purl combinations\, assigned pooling\, lace\, combining different fibers\, and simple cables\nCombining more than one texture in a project\nKnitting “rhythms” and how they can be used to increase accuracy and reduce “tinking” and “frogging”\nHow to read and work with textured knitting charts\nMany tips and tricks throughout the day as well as cameos about Shaker fiber art and crafts.\n\n  \nWorkshop participants will need to bring their own knitting needles and other tools (scissors\, etc.) and pay the materials fee in advance. This fee covers all the texture charts\, yarn\, some supplies and handouts for the workshop. Participants will have the option to purchase additional yarn\, texture patterns\, tools and other supplies on the day of the workshop. \n  \nSkill Level: Basic – Intermediate. You do not need textured knitting skills/experience to attend this workshop\, but you should have basic to intermediate knitting skills\, and enthusiasm and patience for learning new knitting techniques. \n  \nCost: \n$75.00 to register for the workshop\, plus the materials fee $35. Due at the time of registration. \nPlease bring your own lunch. Water and light refreshment will be provided. \n  \nYou will receive more information (including a detailed list of what to bring) via email when you register and pay for the workshop. \n  \nWho Is Katrina Geurkink? \nKatrina is a consultant\, designer and fiber artist living in Lebanon\, NH. She has taught\, studied and worked with organizations and learning communities for over thirty-seven years. She is a skilled facilitator\, consultant\, coach\, teacher and graphic recorder and has a wonderful way of interweaving these different abilities in her work with clients and other artists. She has traveled to many countries around the world\, leading projects\, giving presentations at conferences\, designing learning experiences and consulting with a variety of organizations and communities. \nShe first started playing with fiber when she was five years old. She learned how to knit and sew from her mother and grandmother\, and occasionally from her older sister. They were strong role models and a constant source of inspiration\, demonstrating over and over the incredible things one can create with one’s own hands. She started adapting knitting patterns as a teenager and creating her own knitting\, sewing and other designs when she was in her early twenties. She has played with many different disciplines in the realm of fiber arts: knitting\, crochet\, beading/wire working\, sewing\, surface design\, origami\, and visible mending to name a few. She is an artist member at AVA Gallery and is currently developing online courses and a YouTube Channel to help a wider audience learn from demonstrations of fiber art and craft techniques. \nLocation: North Family Laundry Building – Stone building at 410 NH Route 4A\, Enfield\, NH 03748 \n  \nComing from a distance? Stay at our historic Great Stone Dwelling. Check our availability here.
URL:https://shakermuseum.org/event/elevate-your-knitting-with-texture/
LOCATION:North Family Laundry Building\, 410 NH Route 4a\, Enfield\, NH\, 03748\, United States
CATEGORIES:Education,Workshop
ATTACH;FMTTYPE=image/jpeg:https://shakermuseum.org/wp-content/uploads/2025/08/Texture-Workshop.jpg
GEO:43.621966;-72.1496154
X-APPLE-STRUCTURED-LOCATION;VALUE=URI;X-ADDRESS=North Family Laundry Building 410 NH Route 4a Enfield NH 03748 United States;X-APPLE-RADIUS=500;X-TITLE=410 NH Route 4a:geo:-72.1496154,43.621966
END:VEVENT
BEGIN:VEVENT
DTSTART;TZID=America/New_York:20251101T090000
DTEND;TZID=America/New_York:20251101T170000
DTSTAMP:20260422T133000
CREATED:20251001T180810Z
LAST-MODIFIED:20251001T180810Z
UID:10000320-1761987600-1762016400@shakermuseum.org
SUMMARY:Pantry Basket Workshop
DESCRIPTION:Pantry Basket Workshop\nwith Dona Nazarenko\nSaturday\, November 1st\, 2025\n9:00 – 4:00pm\nJoin us in the Great Stone Dwelling dining room for a full day workshop! Add a modern twist to a traditional Shaker Pantry Basket in this hands-on workshop. Shaker sisters once wove pantry baskets so large they required two people to carry them—but today’s design offers both history and utility. This basket includes a woven side pocket\, perfect for extra tools\, garden supplies\, BBQ essentials\, or crafting materials. Participants will use natural round and flat reed\, paired with a tall oak handle\, and can choose to add color accents if desired. We’ll even decorate the top of the handle for a personal touch. Beginners will have the option to finish their rim work at home. \nWho is Doña Nazerenko? \nResiding in Tunbridge\, Vermont\, Doña Nazarenko has been weaving since 1988 and teaching since 1994. While living along the New Jersey coast\, Doña developed an interest in woodcrafts and related art forms that developed into her desire to take basket making classes in 1988. \nHer exploration of a different art medium has since evolved into a flourishing talent. She now enjoys making traditional baskets using reed with wooden accents to more challenging baskets using birch bark from the area surrounding her current residence in rural Vermont. \nThe highlight of the early years at her craft was having a one-on-one critique with John McGuire at Peter’s Gallery in 1992. His confidence in her and his discretion continues to help her with her current work. Today she can be seen demonstrating basketry representing Vermont fiber artists at local and out-of-state events. \n*Please bring your own lunch. Water and light refreshments will be provided. \nCost: \nLarge size (10 inches by 14 inches) \nMembers – $70 \nNon-Members – $80 \nMedium size (8 inches by 10 inches) \nMembers – $60 \nNon-Members – $70 \n*All proceeds go to the educational mission of Enfield Shaker Museum. \nComing from a distance? Stay at the historic Great Stone Dwelling. Check our room availability here.
URL:https://shakermuseum.org/event/pantry-basket-workshop/
LOCATION:Enfield Shaker Museum\, 447 NH Route 4A\, Enfield\, NH\, 03748\, United States
CATEGORIES:Education,Workshop
ATTACH;FMTTYPE=image/jpeg:https://shakermuseum.org/wp-content/uploads/2025/10/Pantry-Basket.jpg
GEO:43.6200674;-72.1461874
X-APPLE-STRUCTURED-LOCATION;VALUE=URI;X-ADDRESS=Enfield Shaker Museum 447 NH Route 4A Enfield NH 03748 United States;X-APPLE-RADIUS=500;X-TITLE=447 NH Route 4A:geo:-72.1461874,43.6200674
END:VEVENT
BEGIN:VEVENT
DTSTART;TZID=America/New_York:20251102T090000
DTEND;TZID=America/New_York:20251102T160000
DTSTAMP:20260422T133000
CREATED:20250829T180238Z
LAST-MODIFIED:20250909T185817Z
UID:10000314-1762074000-1762099200@shakermuseum.org
SUMMARY:Feather Wool Tree Workshop
DESCRIPTION:Feather Wool Tree Workshop\nwith Jean Reed\nSunday\, November 2nd\, 2025\n9:00 am – 4:00 pm\nThese unique and whimsical trees are made from felted wool\, wrapped over wire stems\, and are enhanced with winter berries.  You will be using 100% felted wool and have a choice of colors.  Trees made in class are 18” tall and your kit includes a tree stand. \nFelted wool trees are not just for the Christmas or winter holidays but can also be done in colors that allow it to be an Easter tree or a tree for a baby shower. Your tree will measure 18” tall.  Embellishments such as lighting and ornaments are available. \nStudents should bring sharp fabric scissors (small ones\, such as embroidery scissors are great)\, a tape measure and a pencil.  Don’t forget a brown bag lunch and a good sense of humor. There will be a brief lunch break during the workshop. Feel free to contact me at Murrayhillweaving@gmail.com with questions. \n \nWho is Jean Reed? \nMurray Hill Weaving is Jean Reed’s dream come true – resulting from her love of basketry\, and weaving for over 45 years. \nBasketry classes took a natural turn into chair seating and other types of art which include a variety of children’s workshops. Located at 685 Murray Hill Road\, Hill\, NH\, the heart of New Hampshire\, Jean teaches in her shop\, and art studios around the country. \nShe has taught for the NH League of Craftsmen\, as well conventions in Michigan\, North Carolina\, Kentucky\, Stowe Basket Festival and Northeast Basketmakers Guild. In addition\, she is a member of BAG\, a local group of artists called Book Artist Group. \nCost:  \nMembers – $145 \nNon-Members – $155 \n*Includes materials fee of $70 \n**Please select the quantity of tickets you would like before clicking the “Get Tickets” button. \nComing from a distance? Stay in our historic Great Stone Dwelling. Check our room availability here.
URL:https://shakermuseum.org/event/feather-wool-tree-workshop/
LOCATION:Enfield Shaker Museum\, 447 NH Route 4A\, Enfield\, NH\, 03748\, United States
CATEGORIES:Education,Workshop
ATTACH;FMTTYPE=image/png:https://shakermuseum.org/wp-content/uploads/2025/08/Feather-Wool-Trees.png
GEO:43.6200674;-72.1461874
X-APPLE-STRUCTURED-LOCATION;VALUE=URI;X-ADDRESS=Enfield Shaker Museum 447 NH Route 4A Enfield NH 03748 United States;X-APPLE-RADIUS=500;X-TITLE=447 NH Route 4A:geo:-72.1461874,43.6200674
END:VEVENT
BEGIN:VEVENT
DTSTART;TZID=America/New_York:20251107T180000
DTEND;TZID=America/New_York:20251107T190000
DTSTAMP:20260422T133000
CREATED:20251007T190244Z
LAST-MODIFIED:20251028T145905Z
UID:10000327-1762538400-1762542000@shakermuseum.org
SUMMARY:Artisan Soups Fundraiser
DESCRIPTION:Artisan Soups Fundraiser\nNovember 7\, 2025\n6:00 pm\nEnjoy a delicious assortment of homemade soups\, fresh salads\, breads\, and decadent desserts at our Artisan Soups Fundraiser served in the historic dining room of the Great Stone Dwelling. Each dinner ticket includes a handcrafted bowl made by local potters—yours to take home as a special keepsake. This community event is hosted by Enfield Shaker Museum in partnership with Friends of Mascoma\, bringing together good food\, local artistry\, and neighbors for a cozy autumn gathering.🤝 Please bring a non-perishable food donation to support our local food pantry and help nourish our community. \nComing from a distance? Stay at our historic Great Stone Dwelling. See our availability here.
URL:https://shakermuseum.org/event/artisan-soups-fundraiser/
LOCATION:Enfield Shaker Museum\, 447 NH Route 4A\, Enfield\, NH\, 03748\, United States
CATEGORIES:Community Event,Dinner,Fundraiser
ATTACH;FMTTYPE=image/png:https://shakermuseum.org/wp-content/uploads/2025/10/Screenshot-2025-10-07-at-12-11-17-Google-Search-e1760046571642.png
GEO:43.6200674;-72.1461874
X-APPLE-STRUCTURED-LOCATION;VALUE=URI;X-ADDRESS=Enfield Shaker Museum 447 NH Route 4A Enfield NH 03748 United States;X-APPLE-RADIUS=500;X-TITLE=447 NH Route 4A:geo:-72.1461874,43.6200674
END:VEVENT
BEGIN:VEVENT
DTSTART;TZID=America/New_York:20251107T183000
DTEND;TZID=America/New_York:20251107T193000
DTSTAMP:20260422T133000
CREATED:20251027T163247Z
LAST-MODIFIED:20251106T194024Z
UID:10000319-1762540200-1762543800@shakermuseum.org
SUMMARY:Biochar: Soil Health\, Sustainability & Local Impact
DESCRIPTION:Biochar: Soil Health\, Sustainability & Local Impact\nwith Peter Hurst\nFriday\, November 7th\, 2025\n6:30 – 7:30 pm\nJoin us in the second-floor meeting room of the Great Stone Dwelling for an enlightening presentation on Biochar with Peter Hurst\, presented in partnership with the Enfield Conservation Commission and Enfield Shaker Museum. \nDiscover what biochar is\, how it supports soil health\, fertility\, and composting\, and why it’s gaining attention as a sustainable solution for environmental management and carbon sequestration. Peter will explore the science behind biochar and its exciting potential right here in Enfield. \nThis session is the first in a hands-on classroom series exploring the practical uses of biochar — including how to create it yourself. Future sessions will be held in various locations\, including outdoor settings\, to complement the learning experience. \nPeter Hurst is an active member of the Enfield Conservation Commission and several other environmental organizations. He has a passion for the land and it’s longevity. \nThis presentation is free\, please RSVP below. \nComing from a distance? Stay at our historic Great Stone Dwelling. Check our room availability here. \nThis presentation is at the same time as a Soup Bowl Fundraiser on the first floor\, and you are welcome to purchase a ticket to the dinner and bring your soup bowl upstairs for the presentation.
URL:https://shakermuseum.org/event/biochar-soil-health-sustainability-local-impact/
LOCATION:Enfield Shaker Museum\, 447 NH Route 4A\, Enfield\, NH\, 03748\, United States
CATEGORIES:Education,Presentation
ATTACH;FMTTYPE=image/jpeg:https://shakermuseum.org/wp-content/uploads/2025/10/biochar3-scaled.jpg
GEO:43.6200674;-72.1461874
X-APPLE-STRUCTURED-LOCATION;VALUE=URI;X-ADDRESS=Enfield Shaker Museum 447 NH Route 4A Enfield NH 03748 United States;X-APPLE-RADIUS=500;X-TITLE=447 NH Route 4A:geo:-72.1461874,43.6200674
END:VEVENT
BEGIN:VEVENT
DTSTART;TZID=America/New_York:20251109T140000
DTEND;TZID=America/New_York:20251109T160000
DTSTAMP:20260422T133000
CREATED:20251015T162127Z
LAST-MODIFIED:20251022T185714Z
UID:10000323-1762696800-1762704000@shakermuseum.org
SUMMARY:Enfield Shaker Museum 2025 Annual Meeting
DESCRIPTION:Enfield Shaker Museum\n2025 Annual Meeting\nSunday\, November 9th\, 2025\n2:00 – 4:00 pm\nGreat Stone Dwelling Meeting Room and Zoom Online\nJoin us for the Enfield Shaker Museum 2025 Annual Members Meeting. The meeting will kick off with board and staff introductions followed by a special presentation by Andrew Cushing of Mascoma Valley Preservation. Andrew Cushing leads the regional nonprofit\, Mascoma Valley Preservation. Prior to that\, he worked for the NH Preservation Alliance and Bureau of Historic Sites at NH State Parks. He has visited every town in New Hampshire\, authored 88 historic register nominations\, and co-authored over 20 historic building assessments. He has seen a lot of schoolhouse museums. He’s kept on his financial tippy toes by restoring several old houses in his hometown of Grafton\, skills he was not necessarily taught at Bowdoin College or the University of Pennsylvania where he got his expensive degrees.  \nThis will be followed by our annual business meeting which includes highlights of the past year\, plans for the future\, and the election of new Board members and officers. \n2:00 pm | Welcome Reception and Registration\n2:15 pm | “When We Find Ourselves in the Place Just Right: Rethinking Historic Preservation”\nby Andrew Cushing\, President\, Mascoma Valley Preservation\n2:45 pm | Meeting Called to Order\n“When We Find Ourselves in the Place Just Right: Rethinking Historic Preservation”\n\nIt is probably time to revise our approach to museums and historic preservation. America’s Bicentennial marked a decade of landmark national and state legislation that aimed to reverse a generation of postwar urban renewal efforts. Museum attendance rose\, historical societies formed\, and communities established regulated historic districts. By many metrics\, historical awareness increased. But today’s society is more diverse\, polarized\, and arguably inattentive. How does preservation reinvent itself to remain relevant as we approach our nation’s 250th? \n\nZoom link available by emailing info@shakermuseum.org or calling 603.632.4346 \nThe Annual Meeting is open to the public.  Refreshments will be served. \n*All Museum Members receive a vote in the Museum’s governance during these proceedings*
URL:https://shakermuseum.org/event/enfield-shaker-museum-2025-annual-meeting/
LOCATION:Enfield Shaker Museum\, 447 NH Route 4A\, Enfield\, NH\, 03748\, United States
CATEGORIES:Members' Event,Museum Event
ATTACH;FMTTYPE=image/jpeg:https://shakermuseum.org/wp-content/uploads/2025/10/Annual-Meeting.jpg
GEO:43.6200674;-72.1461874
X-APPLE-STRUCTURED-LOCATION;VALUE=URI;X-ADDRESS=Enfield Shaker Museum 447 NH Route 4A Enfield NH 03748 United States;X-APPLE-RADIUS=500;X-TITLE=447 NH Route 4A:geo:-72.1461874,43.6200674
END:VEVENT
BEGIN:VEVENT
DTSTART;TZID=America/New_York:20251114T180000
DTEND;TZID=America/New_York:20251114T190000
DTSTAMP:20260422T133000
CREATED:20251001T182448Z
LAST-MODIFIED:20251111T215554Z
UID:10000321-1763143200-1763146800@shakermuseum.org
SUMMARY:History of Fiber Arts in NH: A Lecture by Patty Williams
DESCRIPTION:History of Fiber Arts in NH:\nA Lecture by Patty Williams\nFriday\, November 14th\, 2025\n6:00 – 7:00pm\nTHIS LECTURE HAS BEEN CANCELLED. Thank you for your understanding.\nLocal fiber farmer and fiber artist Patty Williams grew up in New Hampshire\, the fiber arts\, and farming. In this lecture she will combine all three taking us on a tour of time from earliest known techniques\, fibers used\, and fiber in New Hampshire today. Patty is known for throwing in juicy tidbits of fun facts. What famous people wore Londonderry Linen? The New Hampshire Sheep Craze? And the Shaker’s did what? She will answer all of these and more. \nQuestions to follow the presentation. \nWho is Patty Williams? \nPatty Williams is the owner of Aker Fiber Farm located in Enfield Center\, NH. She began working with fiber arts as a young girl with her aunt and mom in Walpole\, NH. She learned how to crochet\, wash fleeces\, draft\, or treadle\, and card wool along with tying her shoes. She began Aker Fiber Farm part time after leaving the Army with her husband in Virginia. They then purchased the flock that had been supplying their fleeces and moved everyone to New Hampshire where Patty added Shepherd to her resume. Aker Fiber Farm has evolved into a Farm to Yarn Company providing flax to linen and fleece to yarn to customers all over the US and Canada.\nPatty began teaching fiber arts without even realizing that was what she was doing. Always wanting to share her passion\, she taught friends how to crochet and knit while in grade school and continued as she gathered more skills and moved around the country. Today\, she travels up and down the east coast teaching workshops and giving lectures on Shepherding skills\, flax\, linen\, spinning\, fiber prep\, dyeing\, and knitting. Her favorite students are folks that “never thought they could”\, as Patty believes everyone CAN!\nAdvanced Registration Required. Please RSVP by November 11th\, 2025. Limited to 60 people. \nThe lecture will take place in the Meeting Room of the Great Stone Dwelling\, which is on the second floor. There is no elevator\, due to the historical nature of the building. \nComing from a distance? Stay at our historic Great Stone Dwelling. Check our room availability here.
URL:https://shakermuseum.org/event/history-of-fiber-arts-in-nh-lecture-2/
LOCATION:Enfield Shaker Museum\, 447 NH Route 4A\, Enfield\, NH\, 03748\, United States
CATEGORIES:Education,Presentation
ATTACH;FMTTYPE=image/jpeg:https://shakermuseum.org/wp-content/uploads/2025/05/history-of-fiber-arts-in-NH.jpg
GEO:43.6200674;-72.1461874
X-APPLE-STRUCTURED-LOCATION;VALUE=URI;X-ADDRESS=Enfield Shaker Museum 447 NH Route 4A Enfield NH 03748 United States;X-APPLE-RADIUS=500;X-TITLE=447 NH Route 4A:geo:-72.1461874,43.6200674
END:VEVENT
BEGIN:VEVENT
DTSTART;TZID=America/New_York:20251115T130000
DTEND;TZID=America/New_York:20251115T150000
DTSTAMP:20260422T133000
CREATED:20251015T134038Z
LAST-MODIFIED:20251113T163024Z
UID:10000322-1763211600-1763218800@shakermuseum.org
SUMMARY:Cloth Star Ornament Workshop
DESCRIPTION:Cloth Star Ornament Workshop\nSaturday\, November 15th\, 2025\n1:00 – 3:00 pm\nJoin instructor Karen Creegan for a festive and creative workshop as you learn to make beautiful folded fabric star ornaments. Using a selection of provided fabrics\, you’ll fold\, layer\, and stitch pieces into charming stars perfect for decorating your home or gifting to loved ones. Karen will guide you step-by-step through the folding process and offer tips for color coordination and finishing touches. \nAll materials are included—simply bring a pair of sharp embroidery scissors and your enthusiasm for handmade crafts! \nWater\, coffee and tea will provided in the Great Stone Dwelling Dining Room. \nCost: \nMembers – $20 \nNon-Members – $25 \n  \nComing from a distance? Stay at our historic Great Stone Dwelling. Check the availability here.
URL:https://shakermuseum.org/event/cloth-star-ornament-workshop/
LOCATION:Enfield Shaker Museum\, 447 NH Route 4A\, Enfield\, NH\, 03748\, United States
CATEGORIES:Education,Workshop
ATTACH;FMTTYPE=image/jpeg:https://shakermuseum.org/wp-content/uploads/2025/10/Scandinavian-Star-Ornament.jpg
GEO:43.6200674;-72.1461874
X-APPLE-STRUCTURED-LOCATION;VALUE=URI;X-ADDRESS=Enfield Shaker Museum 447 NH Route 4A Enfield NH 03748 United States;X-APPLE-RADIUS=500;X-TITLE=447 NH Route 4A:geo:-72.1461874,43.6200674
END:VEVENT
BEGIN:VEVENT
DTSTART;TZID=America/New_York:20251122T100000
DTEND;TZID=America/New_York:20251122T160000
DTSTAMP:20260422T133000
CREATED:20251024T134529Z
LAST-MODIFIED:20251024T134529Z
UID:10000326-1763805600-1763827200@shakermuseum.org
SUMMARY:Theorem Workshop
DESCRIPTION:Theorem Workshop\nMorning Glory’s with Lauren Harhen\nSaturday\, November 22nd\, 2025\n10:00 – 4:00 pm\nTheorem painting was a popular art form in the late eighteenth and early nineteenth centuries. During this introductory class you will learn to cut the set of 3 stencils you will use to stencil oil paint on cotton velveteen to create the pretty morning glories pictured.  \nAlmost everything you will need to complete this project will be provided for you except; please bring an exacto knife with #11 blades and you will want a 5×7 frame for your finished Theorem. Wear a smock or something to protect your clothing and bring a cutting mat and Ott light if you have them.  \nYour instructor is Lauren Jean Harhen a juried member of the Historical Society of Early American Decoration. \nCost: \nMembers – $20 \nNon-Members – $25 \nAdvanced Registration Required. Class size is limited to 6 people. \nComing from a distance? Stay at our historic Great Stone Dwelling. Check our availability here.
URL:https://shakermuseum.org/event/theorem-workshop/
LOCATION:Enfield Shaker Museum\, 447 NH Route 4A\, Enfield\, NH\, 03748\, United States
CATEGORIES:Education,Workshop
ATTACH;FMTTYPE=image/jpeg:https://shakermuseum.org/wp-content/uploads/2025/10/LH-Theorem-Morning-Glories.jpg
GEO:43.6200674;-72.1461874
X-APPLE-STRUCTURED-LOCATION;VALUE=URI;X-ADDRESS=Enfield Shaker Museum 447 NH Route 4A Enfield NH 03748 United States;X-APPLE-RADIUS=500;X-TITLE=447 NH Route 4A:geo:-72.1461874,43.6200674
END:VEVENT
END:VCALENDAR