BEGIN:VCALENDAR
VERSION:2.0
PRODID:-//Enfield Shaker Museum - ECPv6.15.20//NONSGML v1.0//EN
CALSCALE:GREGORIAN
METHOD:PUBLISH
X-ORIGINAL-URL:https://shakermuseum.org
X-WR-CALDESC:Events for Enfield Shaker Museum
REFRESH-INTERVAL;VALUE=DURATION:PT1H
X-Robots-Tag:noindex
X-PUBLISHED-TTL:PT1H
BEGIN:VTIMEZONE
TZID:America/New_York
BEGIN:DAYLIGHT
TZOFFSETFROM:-0500
TZOFFSETTO:-0400
TZNAME:EDT
DTSTART:20230312T070000
END:DAYLIGHT
BEGIN:STANDARD
TZOFFSETFROM:-0400
TZOFFSETTO:-0500
TZNAME:EST
DTSTART:20231105T060000
END:STANDARD
BEGIN:DAYLIGHT
TZOFFSETFROM:-0500
TZOFFSETTO:-0400
TZNAME:EDT
DTSTART:20240310T070000
END:DAYLIGHT
BEGIN:STANDARD
TZOFFSETFROM:-0400
TZOFFSETTO:-0500
TZNAME:EST
DTSTART:20241103T060000
END:STANDARD
BEGIN:DAYLIGHT
TZOFFSETFROM:-0500
TZOFFSETTO:-0400
TZNAME:EDT
DTSTART:20250309T070000
END:DAYLIGHT
BEGIN:STANDARD
TZOFFSETFROM:-0400
TZOFFSETTO:-0500
TZNAME:EST
DTSTART:20251102T060000
END:STANDARD
END:VTIMEZONE
BEGIN:VEVENT
DTSTART;TZID=America/New_York:20240211T140000
DTEND;TZID=America/New_York:20240211T160000
DTSTAMP:20260421T063157
CREATED:20240126T230551Z
LAST-MODIFIED:20240126T230551Z
UID:10000134-1707660000-1707667200@shakermuseum.org
SUMMARY:Heart Shaped Wreath Making
DESCRIPTION:Heart Shaped Wreath Making\nSunday\, February 11\, 2024\n2:00 – 4:00 pm\nCome feel the love in our Heart Shaped Wreath Making Workshop\, as you indulge your creativity just in time for Valentine’s Day. Susan Quinlan\, Museum Garden Coordinator will guide you through the process of designing and constructing a 14 inch natural everlasting\, dried floral heart wreath. \nWe will gather in the Dining Room of the Great Stone Dwelling for light refreshment and community connections.  You will have a chance to finish your masterpiece and take home a unique product\, the perfect Valentine’s gift for yourself or a loved one. \nAll materials will be supplied\, but please bring your own scissors and clippers. \nClass is limited to 10 participants. Advance registration is required. \nMuseum members – $60/person \nNon-members – $68/person \nAll proceeds from this workshop go to support the educational mission of Enfield Shaker Museum. \nComing from a distance? Why not plan to stay overnight in the historic Great Stone Dwelling? Check out room availability here. \nWant to know more about Susan Quinlan?\nSusan Quinlan is a retire registered nurse who has been creating and caring for gardens for forty-nine years. She is a self taught and dedicated organic gardener living in Canaan\, NH.  She grows flowers\, herbs\, vegetables\, perennials\, and shrubs on a northern slope. Susan creates wreaths for all seasons and gives hands-on workshops in wildcrafting. She is currently the Garden Coordinator at Enfield Shaker Museum. Her passion is to create connections between people and plants.
URL:https://shakermuseum.org/event/heart-shaped-wreath-making/
LOCATION:Enfield Shaker Museum\, 447 NH Route 4A\, Enfield\, NH\, 03748\, United States
CATEGORIES:Workshop
ATTACH;FMTTYPE=image/jpeg:https://shakermuseum.org/wp-content/uploads/2024/01/Heart-Shaped-Dried-Wreath.jpg
GEO:43.6200674;-72.1461874
X-APPLE-STRUCTURED-LOCATION;VALUE=URI;X-ADDRESS=Enfield Shaker Museum 447 NH Route 4A Enfield NH 03748 United States;X-APPLE-RADIUS=500;X-TITLE=447 NH Route 4A:geo:-72.1461874,43.6200674
END:VEVENT
END:VCALENDAR