BEGIN:VCALENDAR
VERSION:2.0
PRODID:-//Enfield Shaker Museum - ECPv6.15.20//NONSGML v1.0//EN
CALSCALE:GREGORIAN
METHOD:PUBLISH
X-WR-CALNAME:Enfield Shaker Museum
X-ORIGINAL-URL:https://shakermuseum.org
X-WR-CALDESC:Events for Enfield Shaker Museum
REFRESH-INTERVAL;VALUE=DURATION:PT1H
X-Robots-Tag:noindex
X-PUBLISHED-TTL:PT1H
BEGIN:VTIMEZONE
TZID:America/New_York
BEGIN:DAYLIGHT
TZOFFSETFROM:-0500
TZOFFSETTO:-0400
TZNAME:EDT
DTSTART:20250309T070000
END:DAYLIGHT
BEGIN:STANDARD
TZOFFSETFROM:-0400
TZOFFSETTO:-0500
TZNAME:EST
DTSTART:20251102T060000
END:STANDARD
BEGIN:DAYLIGHT
TZOFFSETFROM:-0500
TZOFFSETTO:-0400
TZNAME:EDT
DTSTART:20260308T070000
END:DAYLIGHT
BEGIN:STANDARD
TZOFFSETFROM:-0400
TZOFFSETTO:-0500
TZNAME:EST
DTSTART:20261101T060000
END:STANDARD
BEGIN:DAYLIGHT
TZOFFSETFROM:-0500
TZOFFSETTO:-0400
TZNAME:EDT
DTSTART:20270314T070000
END:DAYLIGHT
BEGIN:STANDARD
TZOFFSETFROM:-0400
TZOFFSETTO:-0500
TZNAME:EST
DTSTART:20271107T060000
END:STANDARD
END:VTIMEZONE
BEGIN:VEVENT
DTSTART;TZID=America/New_York:20260308T100000
DTEND;TZID=America/New_York:20260308T140000
DTSTAMP:20260422T181222
CREATED:20260119T185324Z
LAST-MODIFIED:20260303T205225Z
UID:10000352-1772964000-1772978400@shakermuseum.org
SUMMARY:Drumming and Sound healing and Reiki
DESCRIPTION:Join us for an afternoon of deep connection\, rhythmic release\, and gentle restoration. This immersive experience weaves together the grounding power of live drumming\, the soothing vibrations of sound healing\, and the calming energy of Reiki to support relaxation\, emotional balance\, and inner clarity. The steady beat of the drum invites you to drop out of your busy mind and into your body\, creating a sense of presence and connection. Layered sound healing tones help calm the nervous system and guide you into a meditative state\, while Reiki energy is offered to support natural healing\, release tension\, and restore energetic flow.No prior experience is needed. This gathering is open to all who are seeking rest\, reflection\, and a deeper sense of harmony. Come as you are\, bring a cozy blanket or mat\, and allow yourself to be held by rhythm\, sound\, and stillness.
URL:https://shakermuseum.org/event/drumming-and-sound-healing-and-reiki/
LOCATION:Enfield Shaker Museum\, 447 NH Route 4A\, Enfield\, NH\, 03748\, United States
ATTACH;FMTTYPE=image/png:https://shakermuseum.org/wp-content/uploads/2026/01/Screenshot-2026-01-07-at-10-47-10-Google-Search.png
GEO:43.6200674;-72.1461874
X-APPLE-STRUCTURED-LOCATION;VALUE=URI;X-ADDRESS=Enfield Shaker Museum 447 NH Route 4A Enfield NH 03748 United States;X-APPLE-RADIUS=500;X-TITLE=447 NH Route 4A:geo:-72.1461874,43.6200674
END:VEVENT
END:VCALENDAR