BEGIN:VCALENDAR
VERSION:2.0
PRODID:-//Enfield Shaker Museum - ECPv6.15.20//NONSGML v1.0//EN
CALSCALE:GREGORIAN
METHOD:PUBLISH
X-WR-CALNAME:Enfield Shaker Museum
X-ORIGINAL-URL:https://shakermuseum.org
X-WR-CALDESC:Events for Enfield Shaker Museum
REFRESH-INTERVAL;VALUE=DURATION:PT1H
X-Robots-Tag:noindex
X-PUBLISHED-TTL:PT1H
BEGIN:VTIMEZONE
TZID:America/New_York
BEGIN:DAYLIGHT
TZOFFSETFROM:-0500
TZOFFSETTO:-0400
TZNAME:EDT
DTSTART:20230312T070000
END:DAYLIGHT
BEGIN:STANDARD
TZOFFSETFROM:-0400
TZOFFSETTO:-0500
TZNAME:EST
DTSTART:20231105T060000
END:STANDARD
BEGIN:DAYLIGHT
TZOFFSETFROM:-0500
TZOFFSETTO:-0400
TZNAME:EDT
DTSTART:20240310T070000
END:DAYLIGHT
BEGIN:STANDARD
TZOFFSETFROM:-0400
TZOFFSETTO:-0500
TZNAME:EST
DTSTART:20241103T060000
END:STANDARD
BEGIN:DAYLIGHT
TZOFFSETFROM:-0500
TZOFFSETTO:-0400
TZNAME:EDT
DTSTART:20250309T070000
END:DAYLIGHT
BEGIN:STANDARD
TZOFFSETFROM:-0400
TZOFFSETTO:-0500
TZNAME:EST
DTSTART:20251102T060000
END:STANDARD
BEGIN:DAYLIGHT
TZOFFSETFROM:-0500
TZOFFSETTO:-0400
TZNAME:EDT
DTSTART:20260308T070000
END:DAYLIGHT
BEGIN:STANDARD
TZOFFSETFROM:-0400
TZOFFSETTO:-0500
TZNAME:EST
DTSTART:20261101T060000
END:STANDARD
END:VTIMEZONE
BEGIN:VEVENT
DTSTART;TZID=America/New_York:20251219T190000
DTEND;TZID=America/New_York:20251219T200000
DTSTAMP:20260422T173412
CREATED:20251106T160428Z
LAST-MODIFIED:20251106T160428Z
UID:10000339-1766170800-1766174400@shakermuseum.org
SUMMARY:Upper Valley Ringers Holiday Handbells
DESCRIPTION:Come hear the Upper Valley Ringers share their festive “Holiday Handbells” music\, Friday Dec. 19 (7pm) at Chosen Vale Performance Center\, Enfield Shaker Museum. \nThe concert will feature familiar carols in beautiful arrangements.  A few selections will showcase the multiple talents of ensemble members on other instruments. \nIn this season of short days and long nights\, the Upper Valley Ringers seek to bring light into the community with their moving and delightful music. \nFree admission\, with a freewill offering to benefit Enfield Shaker Museum. \nComing from a distance? Stay at our historic Great Stone Dwelling. Check the availability here.
URL:https://shakermuseum.org/event/upper-valley-ringers-holiday-handbells/
LOCATION:Chosen Vale Performance Center\, 410 Route 4A\, Enfield\, 03748\, United States
CATEGORIES:Music
ATTACH;FMTTYPE=image/jpeg:https://shakermuseum.org/wp-content/uploads/2025/11/UVRINGERS2025.jpg
GEO:43.622465;-72.151231
X-APPLE-STRUCTURED-LOCATION;VALUE=URI;X-ADDRESS=Chosen Vale Performance Center 410 Route 4A Enfield 03748 United States;X-APPLE-RADIUS=500;X-TITLE=410 Route 4A:geo:-72.151231,43.622465
END:VEVENT
BEGIN:VEVENT
DTSTART;TZID=America/New_York:20250501T180000
DTEND;TZID=America/New_York:20250501T210000
DTSTAMP:20260422T173412
CREATED:20250324T202107Z
LAST-MODIFIED:20250410T141727Z
UID:10000260-1746122400-1746133200@shakermuseum.org
SUMMARY:Breakfast of Champions Revival Benefit Concert
DESCRIPTION:Breakfast of Champions Revival\nBenefit Concert\nMay 1st\, 2025\n6:00 – 9:00 pm\nChosen Vale Performance Center \n410 NH Route 4A \nEnfield\, NH 03748 \nJoin us for a benefit concert for Enfield Shaker Museum by Breakfast of Champions Revival! Jay Boucher\, Gary ‘Hub’ Hubbard and friends will be playing what they call Bluegrass Renegade. The original band-mates Jay and ‘Hub’ have been playing together for 48 years. They are offering this concert in honor of their first meeting. Jay wrote the story of their journey down and will share many anecdotes during their performance on the 1st of May. \nThe Story of Breakfast of Champions: \nMay 1\, 1977\, is where this journey started. Mutual friends were hosting a jam session ‘May Day’ party at their house in Enfield Center. So\, my best friend Robby and I headed there with our banjo and guitar to join in. Robby and I had lived together in several places\, and at one point we both made a commitment to each other that I would learn the guitar and he would learn the banjo. So\, we both took some lessons and just started playing\, and playing\, and playing until our fingers bled. We couldn’t get enough of it\, and we were anxious to show our friends some of the tunes we had learned. \nThere were several musicians playing music that day\, but for some reason\, we just seemed to click with two guys name Gary ‘Hub’ Hubbard and Matt Rogers\, who were also good friends who had been playing music together. We had a blast playing at that party with them\, and we left the party with the intention of getting the four of us together to work out some tunes- which we did. \n \nThen there was this Choctaw Festival on the common in Lyme\, NH and we were invited to play a few tunes\, which we gladly did. A guy who was in the crowd for this figured out a way to get in touch with Hub and asked if we would play for a couple hours for a party he was throwing for a bunch of Mary Hitchcock Memorial Hospital folks at his house on the river in Lyme. \nThis was the launch of what became the Breakfast of Champions\, and for the next five years we tore it up all over the Upper Valley (and beyond)\, bringing in huge crowds and having a ball in the process. We’d also go to bluegrass festivals and compete in the parking lot picking contests and always did very well with those. \n \nWe always practiced at my place on Thursday nights\, as we figured we could always stumble through Friday and then we were onto the weekend. These Thursday night picking sessions became iconic\, and despite a few breaks over the decades while we were all raising kids\, starting businesses\, etc.\, these Thursday night picking sessions are still going stronger than ever! When I reflect on the cast of characters that have been a part of these picking sessions over the last 48 years\, it truly warms my heart\, and really proves that there is power in music that is shared by so many people. The friends we have made and maintained over this span of 48 years is incredible to say the least. \n \n \n \nSo\, on May 1\, 2025\, 48 years to the day when Hub and I first met and played music together\, we want to share some stories\, lots of laughs and of course the music we have been playing all this time. Although the numbers of pickers that have joined in on our Thursday night picking sessions are substantial\, on this night we’ll be introducing you to the core guys\, since we can only put so many people on the stage at one time. These guys all come with their own story\, and I look forward to sharing these stories with everyone. These guys also come with their own unique talents as well\, which will be on display that evening. Most importantly\, these guys are simply the best! We have more fun sitting around the table at my house on Thursday nights\, playing music for six hours or so\, giving each other a hard time and laughing our tails off. We plan on doing a lot of that on May 1st\, so bring your sense of humor with you. \nI’m a huge ‘fate’ guy\, as I have always believed that things happen for a reason. One night shortly after New Years day\, I had this vivid dream that started on May 1st\, 1977\, at the picking session where Hub and I first played music together. The dream carried on through the years\, reliving all the highlights of our musical journey and friendship\, and it ended on May 1\, 2025- at the Chosen Vale Performance Center (of all places)\, with me and my buddies putting on a show to raise money for the Enfield Shake Museum and their new performance center. This is a great venue\, and hopefully this event will expose this place to a lot of musicians throughout the upper valley as a perfect spot for performances of all kinds. The place seats around 300 people\, which fills a big void for venues of this size in the area. \nHaving been involved in the development of the Shaker Village properties since the mid-80’s when the developers purchased the property from the Catholic church\, I find it easy to take this place for granted. However\, this village is a tremendous asset to this area\, and the folks behind the Enfield Shaker Museum have poured their hearts and souls into making this place what it is today. Their recent purchase of the LaSalette property significantly enhances their offerings\, and this new performance center is destined for great things. \nPlease come and join us for this event and help us raise money for a great cause and have a fun time in the process. We are donating our time that night to the Museum and hope that you’ll be in a generous mood that night. We are suggesting a $25 donation at the door\, but you are certainly welcome to give more if you are so inclined. \nhttps://drive.google.com/file/d/1MqUEdvTPhBlkVx3t3d5xBXuLh4so0I_S/view?usp=sharing \n(^Video of Breakfast of Champions in action^) \nWe look forward to seeing you all on May Day 2025 where the Breakfast of Champions Revival will be doing what we do best- playing music\, telling stories\, giving each other grief and laughing till the back of our heads hurt! \n \nFood: \nConcession stand \nCash Bar \nSuggested Donation of $25 \n\nIf you would like to donate ahead of time\, please do so here.\nQR codes will also be around the venue for online donation on the night of the concert.\n\n*All proceeds will go to the educational mission of Enfield Shaker Museum. \nComing from a distance? Stay at our historic Great Stone Dwelling. Check our room availability here. \n**Please bear with us as the construction finalizes on the bathrooms for the Performance Center.
URL:https://shakermuseum.org/event/breakfast-of-champions-revival-benefit-concert/
LOCATION:Chosen Vale Performance Center\, 410 Route 4A\, Enfield\, 03748\, United States
CATEGORIES:Community Event,Fundraiser
ATTACH;FMTTYPE=image/jpeg:https://shakermuseum.org/wp-content/uploads/2025/03/Breakfast-of-Champions-Revival-Concert1.jpg
GEO:43.622465;-72.151231
X-APPLE-STRUCTURED-LOCATION;VALUE=URI;X-ADDRESS=Chosen Vale Performance Center 410 Route 4A Enfield 03748 United States;X-APPLE-RADIUS=500;X-TITLE=410 Route 4A:geo:-72.151231,43.622465
END:VEVENT
BEGIN:VEVENT
DTSTART;TZID=America/New_York:20250111T140000
DTEND;TZID=America/New_York:20250111T160000
DTSTAMP:20260422T173412
CREATED:20241121T153517Z
LAST-MODIFIED:20241121T153517Z
UID:10000205-1736604000-1736611200@shakermuseum.org
SUMMARY:Becoming Wolf Talk with Chris Schadler
DESCRIPTION:Becoming Wolf Talk\nwith Chris Schadler\n2:00 – 4:00 PM\nFree Admission\nAn eastern coyote is defined as much by its western coyote ancestry as by the DNA contribution from the Eastern wolf. Coyotes in the northeast vary physically and behaviorally from its smaller western relative – while still carrying their incredible adaptability. This program delves into the ecology and behavior of this creature\, its indefatigability and how it is the human who must adapt to live with the coyote. \nOn the horizon\, however\, is a native carnivore which fled the northeast during wolf removal and now may be trying to return: The eastern wolf. A look-alike to the coyote\, it has been killed mistakenly for its similarity of appearance to the coyote. We’ll talk about how the wolf and coyote might negotiate a truce in the northeast and how we might do the same. \n  \nMore About Chris Schadler: \nChris earned a Masters in Conservation Biology at Antioch University Graduate School. Her thesis focused on the natural recovery of the Eastern Timber Wolf in Michigan. \nWhile wolf recovery was the focus of her early work\, Chris’ attention shifted to the eastern coyote when she moved to New England in the 1980s. She chose a farm beset with coyote problems to raise sheep and train her border collies. Using sound livestock management and common sense\, she [and her sheep] avoided any predation. \nBeginning in the early 1990s\, Chris taught in the Dept of Natural Resources at the University of New Hampshire and instructed and mentored adult degree candidates in the UNH System at Granite State College. \nChris recently co-founded the NH Wildlife Coalition\, is the NH and VT Representative for Project Coyote and Chairs the Webster Conservation Commission. She continues to research coyote feeding patterns in Coos County and enjoys life without sheep. \nThis event is brought to you by the collaborative efforts of Enfield Shaker Museum and Enfield Public Library. \nComing from a distance? Stay overnight in the Great Stone Dwelling! Accommodations.
URL:https://shakermuseum.org/event/becoming-wolf-talk-with-chris-schadler/
LOCATION:Chosen Vale Performance Center\, 410 Route 4A\, Enfield\, 03748\, United States
CATEGORIES:Community Event,Museum Event,Presentation
ATTACH;FMTTYPE=image/jpeg:https://shakermuseum.org/wp-content/uploads/2024/11/Becoming-Wolf.jpg
GEO:43.622465;-72.151231
X-APPLE-STRUCTURED-LOCATION;VALUE=URI;X-ADDRESS=Chosen Vale Performance Center 410 Route 4A Enfield 03748 United States;X-APPLE-RADIUS=500;X-TITLE=410 Route 4A:geo:-72.151231,43.622465
END:VEVENT
BEGIN:VEVENT
DTSTART;TZID=America/New_York:20241221T160000
DTEND;TZID=America/New_York:20241221T173000
DTSTAMP:20260422T173412
CREATED:20241021T175410Z
LAST-MODIFIED:20241120T150309Z
UID:10000202-1734796800-1734802200@shakermuseum.org
SUMMARY:Community Carol Sing
DESCRIPTION:Community Carol Sing\nLed by Mary Ann Haagen\nAccompanied by Community Instrumentalists\nSaturday\, December 21st\, 2024\nStarts at 4:00 pm\nFree Admission\n  \nChristmas is a time to come together with family and friends and celebrate the season with song! Let’s come together in the former La Salette Chapel for Enfield Shaker Museum’s Community Carol Sing led by Mary Ann Haagen and accompanied by community instrumentalists as we ring in the Christmas season with your favorite carols. \nMusic and words will be provided.  Enjoy a brief presentation on how the Shakers celebrated Christmas by Mary Ann Haagen and learn a Shaker Christmas song. \nEnjoy some holiday themed refreshments following the sing. \nThis event is free and all ages and voices are welcome!! Plenty of free parking. \n  \n*TIME CHANGED FROM 7 PM to 4PM
URL:https://shakermuseum.org/event/community-carol-sing-2/
LOCATION:Chosen Vale Performance Center\, 410 Route 4A\, Enfield\, 03748\, United States
CATEGORIES:Community Event,Museum Event,Music
ATTACH;FMTTYPE=image/jpeg:https://shakermuseum.org/wp-content/uploads/2023/11/Community-Carol-Sing.jpeg
GEO:43.622465;-72.151231
X-APPLE-STRUCTURED-LOCATION;VALUE=URI;X-ADDRESS=Chosen Vale Performance Center 410 Route 4A Enfield 03748 United States;X-APPLE-RADIUS=500;X-TITLE=410 Route 4A:geo:-72.151231,43.622465
END:VEVENT
BEGIN:VEVENT
DTSTART;TZID=America/New_York:20241213T190000
DTEND;TZID=America/New_York:20241213T210000
DTSTAMP:20260422T173412
CREATED:20241018T142858Z
LAST-MODIFIED:20241211T185338Z
UID:10000199-1734116400-1734123600@shakermuseum.org
SUMMARY:Upper Valley Ringers Holiday Concert
DESCRIPTION:Upper Valley Ringers Holiday Concert\nFriday\, December 13\, 2024\n7:00 pm – 9:00 pm\nFree Admission\n*donations welcome* \nChosen Vale Performance Center\n410 Route 4A \nEnfield\, NH 03748 \n  \nJoin us in the Chosen Vale Performance Center for a holiday concert featuring the Upper Valley Ringers! \n  \nComing from a distance? Stay at the historic Great Stone Dwelling! Accommodations.
URL:https://shakermuseum.org/event/upper-valley-ringers-holiday-concert-2/
LOCATION:Chosen Vale Performance Center\, 410 Route 4A\, Enfield\, 03748\, United States
CATEGORIES:Community Event,Museum Event,Music
ATTACH;FMTTYPE=image/jpeg:https://shakermuseum.org/wp-content/uploads/2023/11/UVR-handbells-close-up-2023-e1729261251719.jpg
GEO:43.622465;-72.151231
X-APPLE-STRUCTURED-LOCATION;VALUE=URI;X-ADDRESS=Chosen Vale Performance Center 410 Route 4A Enfield 03748 United States;X-APPLE-RADIUS=500;X-TITLE=410 Route 4A:geo:-72.151231,43.622465
END:VEVENT
END:VCALENDAR